BEGIN:VCALENDAR
VERSION:2.0
PRODID:-//The Original Craft Beer Lawyers - The Craft Beer Attorney - ECPv6.15.20//NONSGML v1.0//EN
CALSCALE:GREGORIAN
METHOD:PUBLISH
X-WR-CALNAME:The Original Craft Beer Lawyers - The Craft Beer Attorney
X-ORIGINAL-URL:https://craftbeerattorney.com
X-WR-CALDESC:Events for The Original Craft Beer Lawyers - The Craft Beer Attorney
REFRESH-INTERVAL;VALUE=DURATION:PT1H
X-Robots-Tag:noindex
X-PUBLISHED-TTL:PT1H
BEGIN:VTIMEZONE
TZID:UTC
BEGIN:STANDARD
TZOFFSETFROM:+0000
TZOFFSETTO:+0000
TZNAME:UTC
DTSTART:20170101T000000
END:STANDARD
END:VTIMEZONE
BEGIN:VEVENT
DTSTART;TZID=UTC:20180104T080000
DTEND;TZID=UTC:20180107T170000
DTSTAMP:20260420T100301
CREATED:20171219T193324Z
LAST-MODIFIED:20171219T193324Z
UID:2673-1515052800-1515344400@craftbeerattorney.com
SUMMARY:Big Beers\, Belgians & Barleywines Festival
DESCRIPTION:Dinsmore & Shohl LLP is a proud sponsor of the Big Beers\, Belgians & Barleywines Festival \nA World-Class Beer Festival\n\nThe perfect combination for a Winter Wonderland getaway: A world-class beer festival in the Colorado Rocky Mountains. Meet renowned brewmasters and brewery owners\, taste hundreds of big\, Belgian style\, and experimental beers\, explore beer & food pairings\, and learn from an impressive array of brewmasters and industry experts over an action-packed three day weekend. \nAs a novice\, an aficionado\, or an advanced homebrewer\, you can enjoy an unprecedented opportunity to discuss beer with the amazing people who make it happen. Dig in further to learn more about this little festival in the mountains that the beer industry holds in such high esteem.
URL:https://craftbeerattorney.com/event/big-beers-belgians-barleywines-festival/
LOCATION:Beaver Run Resort\, 620 Village Rd\, Breckenridge\, CO\, 80424\, United States
CATEGORIES:Festival
ATTACH;FMTTYPE=image/png:https://craftbeerattorney.com/wp-content/uploads/2017/12/big-beers-festival-logo-325.png
END:VEVENT
END:VCALENDAR