BEGIN:VCALENDAR
VERSION:2.0
PRODID:-//The Original Craft Beer Lawyers - The Craft Beer Attorney - ECPv6.15.20//NONSGML v1.0//EN
CALSCALE:GREGORIAN
METHOD:PUBLISH
X-ORIGINAL-URL:https://craftbeerattorney.com
X-WR-CALDESC:Events for The Original Craft Beer Lawyers - The Craft Beer Attorney
REFRESH-INTERVAL;VALUE=DURATION:PT1H
X-Robots-Tag:noindex
X-PUBLISHED-TTL:PT1H
BEGIN:VTIMEZONE
TZID:UTC
BEGIN:STANDARD
TZOFFSETFROM:+0000
TZOFFSETTO:+0000
TZNAME:UTC
DTSTART:20230101T000000
END:STANDARD
END:VTIMEZONE
BEGIN:VEVENT
DTSTART;TZID=UTC:20240521T080000
DTEND;TZID=UTC:20240521T170000
DTSTAMP:20260419T222143
CREATED:20240413T212110Z
LAST-MODIFIED:20240413T212110Z
UID:3415-1716278400-1716310800@craftbeerattorney.com
SUMMARY:SD Brewers Guild Workshop: Financial Clarity: Decoding Brewery Finance And Valuation
DESCRIPTION:Join Candace and the Tax & Financial Group for a half and all-day workshop on brewery finance and valuation\, presented by the San Diego Brewers Guild. Candace will be helping support this event with a brief session during lunch.
URL:https://craftbeerattorney.com/event/sd-brewers-guild-workshop-financial-clarity-decoding-brewery-finance-and-valuation/
LOCATION:White Labs\, 9495 Candida St\, San Diego\, 92126\, United States
CATEGORIES:Educational Event
ATTACH;FMTTYPE=image/png:https://craftbeerattorney.com/wp-content/uploads/2024/04/SDBG.png
END:VEVENT
END:VCALENDAR